BEGIN:VCALENDAR
VERSION:2.0
PRODID:-//Library Market//iCal Export//EN
BEGIN:VEVENT
SUMMARY:Registration for Summer Learning begins on Beanstack
UID:1084
DTSTAMP:20260425T230900Z
DTSTART:20260530T050000Z
DTEND:20260605T050000Z
LOCATION:Johnson Creek Public Library, 125 Lincoln St, PO Box 130, Johnson
  Creek, WI 53038, United States
ROOM: Registration for Summer Learning begins on Beanstack
DESCRIPTION:Registration on Beanstack begins May 30 for our 2026 Summer Le
 arning Challenge! Join us for our annual SLP Kickoff Saturday, June 6th fr
 om 10am-12noon. Receive your FREE book for registering, enjoy face paintin
 g, yard games, prize drawings and more! SLP runs June 6th -July 31st and i
 s open to all ages!
URL:https://johnsoncreek.librarycalendar.com/event/registration-summer-lea
 rning-begins-beanstack-1084
END:VEVENT
END:VCALENDAR
